BEGIN:VCALENDAR
VERSION:2.0
PRODID:-//Plone.org//NONSGML plone.app.event//EN
X-WR-TIMEZONE:Europe/Madrid
BEGIN:VEVENT
SUMMARY:Festa Major 2016: Actuacions de Hotel Cochambre + DJ Mamayé
DTSTART;VALUE=DATE:20160821
DTEND;VALUE=DATE:20160822
DTSTAMP;VALUE=DATE-TIME:20260423T124750Z
UID:338b1e49a26846b0bbecce4c2fcb3230@www.molletvalles.cat
CATEGORIES:Música\, cinema i espectacles
CREATED;VALUE=DATE-TIME:20160726T075257Z
LAST-MODIFIED;VALUE=DATE-TIME:20221222T011414Z
LOCATION:Parc de Can Mulà
URL:https://www.molletvalles.cat/ca/actualitat/agenda/17633
END:VEVENT
END:VCALENDAR
