BEGIN:VCALENDAR
VERSION:2.0
PRODID:-//Plone.org//NONSGML plone.app.event//EN
X-WR-TIMEZONE:Europe/Madrid
BEGIN:VEVENT
SUMMARY:Festa Major 2016: Estirada del cotxe infantil
DTSTART;VALUE=DATE:20160822
DTEND;VALUE=DATE:20160823
DTSTAMP;VALUE=DATE-TIME:20260423T124855Z
UID:4485f09b5254477993045f2abc9ef753@www.molletvalles.cat
CATEGORIES:Festes populars
CREATED;VALUE=DATE-TIME:20160726T100421Z
LAST-MODIFIED;VALUE=DATE-TIME:20221222T011422Z
LOCATION:Av. Llibertat
URL:https://www.molletvalles.cat/ca/actualitat/agenda/17636
END:VEVENT
END:VCALENDAR
