BEGIN:VCALENDAR
VERSION:2.0
PRODID:-//Plone.org//NONSGML plone.app.event//EN
X-WR-TIMEZONE:Europe/Madrid
BEGIN:VEVENT
SUMMARY:Festa Major 2016: El Ball del Fanalet
DTSTART;VALUE=DATE:20160823
DTEND;VALUE=DATE:20160824
DTSTAMP;VALUE=DATE-TIME:20260423T124629Z
UID:1203cba0381a4d87b838f7a8b3964d60@www.molletvalles.cat
CATEGORIES:Festes populars
CREATED;VALUE=DATE-TIME:20160727T131440Z
LAST-MODIFIED;VALUE=DATE-TIME:20221222T011532Z
LOCATION:Envelat
URL:https://www.molletvalles.cat/ca/actualitat/agenda/17664
END:VEVENT
END:VCALENDAR
