BEGIN:VCALENDAR
VERSION:2.0
PRODID:-//Plone.org//NONSGML plone.app.event//EN
X-WR-TIMEZONE:Europe/Madrid
BEGIN:VEVENT
SUMMARY:Festival Artístic Internacional l'Arlequí
DTSTART;VALUE=DATE:20160904
DTEND;VALUE=DATE:20160905
DTSTAMP;VALUE=DATE-TIME:20260423T124855Z
UID:d13bc1f61af84b5fae9740338b501fd5@www.molletvalles.cat
CATEGORIES:Exposicions i fires
CREATED;VALUE=DATE-TIME:20160830T075448Z
LAST-MODIFIED;VALUE=DATE-TIME:20221222T011608Z
LOCATION:Mollet del Vallès
URL:https://www.molletvalles.cat/ca/actualitat/agenda/17675
END:VEVENT
END:VCALENDAR
