BEGIN:VCALENDAR
VERSION:2.0
PRODID:-//Plone.org//NONSGML plone.app.event//EN
X-WR-TIMEZONE:Europe/Madrid
BEGIN:VEVENT
SUMMARY:Inscripcions presencials per a les activitats\, cursos i tallers d
 els centres cívics\, culturals i CIRD Joana Barcala
DTSTART;VALUE=DATE:20160919
DTEND;VALUE=DATE:20160920
DTSTAMP;VALUE=DATE-TIME:20260419T164046Z
UID:8b2bb51e9b9a45a8ad8cdc84e6fafb6e@www.molletvalles.cat
CATEGORIES:Cursos i tallers
CREATED;VALUE=DATE-TIME:20160914T081454Z
LAST-MODIFIED;VALUE=DATE-TIME:20221222T011744Z
LOCATION:Oficina d'Atenció Ciutadana de l'Ajuntament de Mollet del Vallè
 s
URL:https://www.molletvalles.cat/ca/actualitat/agenda/17709
END:VEVENT
END:VCALENDAR
