BEGIN:VCALENDAR
VERSION:2.0
PRODID:-//Plone.org//NONSGML plone.app.event//EN
X-WR-TIMEZONE:Europe/Madrid
BEGIN:VEVENT
SUMMARY:Xerrada:" Vida + Positiva"\, a càrrec de l'Elisabet Rebollo
DTSTART;VALUE=DATE:20161014
DTEND;VALUE=DATE:20161015
DTSTAMP;VALUE=DATE-TIME:20260423T124750Z
UID:f97f07e67ecb4226acb45588267a905f@www.molletvalles.cat
CATEGORIES:Conferències
CREATED;VALUE=DATE-TIME:20161010T070554Z
LAST-MODIFIED;VALUE=DATE-TIME:20221222T012134Z
URL:https://www.molletvalles.cat/ca/actualitat/agenda/17792
END:VEVENT
END:VCALENDAR
