BEGIN:VCALENDAR
VERSION:2.0
PRODID:-//Plone.org//NONSGML plone.app.event//EN
X-WR-TIMEZONE:Europe/Madrid
BEGIN:VEVENT
SUMMARY:Oktoberfest
DTSTART;VALUE=DATE:20161022
DTEND;VALUE=DATE:20161023
DTSTAMP;VALUE=DATE-TIME:20260421T174438Z
UID:468743ed52f34d499c9660213d967b4f@www.molletvalles.cat
CATEGORIES:Música\, cinema i espectacles
CREATED;VALUE=DATE-TIME:20161019T100514Z
LAST-MODIFIED;VALUE=DATE-TIME:20221222T012234Z
LOCATION:Plaça Prat de la Riba
URL:https://www.molletvalles.cat/ca/actualitat/agenda/17814
END:VEVENT
END:VCALENDAR
