BEGIN:VCALENDAR
VERSION:2.0
PRODID:-//Plone.org//NONSGML plone.app.event//EN
X-WR-TIMEZONE:Europe/Madrid
BEGIN:VEVENT
SUMMARY:Directe a l'infern. Nit de Halloween
DTSTART;VALUE=DATE:20161104
DTEND;VALUE=DATE:20161105
DTSTAMP;VALUE=DATE-TIME:20260423T124744Z
UID:348416392dc14af4a4061548c5b09be2@www.molletvalles.cat
CATEGORIES:Música\, cinema i espectacles
CREATED;VALUE=DATE-TIME:20161020T140025Z
LAST-MODIFIED;VALUE=DATE-TIME:20221222T012254Z
URL:https://www.molletvalles.cat/ca/actualitat/agenda/17824
END:VEVENT
END:VCALENDAR
