BEGIN:VCALENDAR
VERSION:2.0
PRODID:-//Plone.org//NONSGML plone.app.event//EN
X-WR-TIMEZONE:Europe/Madrid
BEGIN:VEVENT
SUMMARY:Ball de Saló
DTSTART;VALUE=DATE:20161105
DTEND;VALUE=DATE:20161106
DTSTAMP;VALUE=DATE-TIME:20260423T124711Z
UID:a0d7b6c44e134a5c98a1e7ebac646618@www.molletvalles.cat
CATEGORIES:Música\, cinema i espectacles
CREATED;VALUE=DATE-TIME:20161020T141616Z
LAST-MODIFIED;VALUE=DATE-TIME:20221222T012254Z
URL:https://www.molletvalles.cat/ca/actualitat/agenda/17825
END:VEVENT
END:VCALENDAR
