BEGIN:VCALENDAR
VERSION:2.0
PRODID:-//Plone.org//NONSGML plone.app.event//EN
X-WR-TIMEZONE:Europe/Madrid
BEGIN:VEVENT
SUMMARY:Taller familiar de Papiroflexia
DTSTART;VALUE=DATE:20161116
DTEND;VALUE=DATE:20161117
DTSTAMP;VALUE=DATE-TIME:20260423T124627Z
UID:85397cb6f3b24de78eeed2b61ba07c2b@www.molletvalles.cat
CATEGORIES:Cursos i tallers
CREATED;VALUE=DATE-TIME:20161026T080951Z
LAST-MODIFIED;VALUE=DATE-TIME:20221222T012342Z
URL:https://www.molletvalles.cat/ca/actualitat/agenda/17839
END:VEVENT
END:VCALENDAR
