BEGIN:VCALENDAR
VERSION:2.0
PRODID:-//Plone.org//NONSGML plone.app.event//EN
X-WR-TIMEZONE:Europe/Madrid
BEGIN:VEVENT
SUMMARY:III Scooter Comp Ciutat de Mollet 
DTSTART;VALUE=DATE:20161113
DTEND;VALUE=DATE:20161114
DTSTAMP;VALUE=DATE-TIME:20260419T163454Z
UID:be1b3be5c29a48e59975ddee1849f509@www.molletvalles.cat
CATEGORIES:Esports
CREATED;VALUE=DATE-TIME:20161102T125449Z
LAST-MODIFIED;VALUE=DATE-TIME:20221222T012414Z
URL:https://www.molletvalles.cat/ca/actualitat/agenda/17849
END:VEVENT
END:VCALENDAR
