BEGIN:VCALENDAR
VERSION:2.0
PRODID:-//Plone.org//NONSGML plone.app.event//EN
X-WR-TIMEZONE:Europe/Madrid
BEGIN:VEVENT
SUMMARY:Concert de Santa Cecília de l'Associació Musical Pau Casals
DTSTART;VALUE=DATE:20161119
DTEND;VALUE=DATE:20161120
DTSTAMP;VALUE=DATE-TIME:20260423T124821Z
UID:884415056898493586b80df5e2f36450@www.molletvalles.cat
CATEGORIES:Música\, cinema i espectacles
CREATED;VALUE=DATE-TIME:20161107T110818Z
LAST-MODIFIED;VALUE=DATE-TIME:20221222T012436Z
URL:https://www.molletvalles.cat/ca/actualitat/agenda/17856
END:VEVENT
END:VCALENDAR
