BEGIN:VCALENDAR
VERSION:2.0
PRODID:-//Plone.org//NONSGML plone.app.event//EN
X-WR-TIMEZONE:Europe/Madrid
BEGIN:VEVENT
SUMMARY:IV Marató de Cinema Fantàstic de Mollet
DTSTART;VALUE=DATE:20161127
DTEND;VALUE=DATE:20161128
DTSTAMP;VALUE=DATE-TIME:20260423T124457Z
UID:fef0571cc92c4d54bb2483f39bfe90f1@www.molletvalles.cat
CATEGORIES:Música\, cinema i espectacles
CREATED;VALUE=DATE-TIME:20161114T085425Z
LAST-MODIFIED;VALUE=DATE-TIME:20221222T012532Z
URL:https://www.molletvalles.cat/ca/actualitat/agenda/17874
END:VEVENT
END:VCALENDAR
