BEGIN:VCALENDAR
VERSION:2.0
PRODID:-//Plone.org//NONSGML plone.app.event//EN
X-WR-TIMEZONE:Europe/Madrid
BEGIN:VEVENT
SUMMARY:Acció Denúncia de l'Associació de Dones Àgora Contra la Violè
 ncia de Gènere
DTSTART;VALUE=DATE:20161127
DTEND;VALUE=DATE:20161128
DTSTAMP;VALUE=DATE-TIME:20260423T124652Z
UID:735001ddec5e4216b8a42ac6eda5904e@www.molletvalles.cat
CATEGORIES:Actes diversos
CREATED;VALUE=DATE-TIME:20161118T111419Z
LAST-MODIFIED;VALUE=DATE-TIME:20221222T012623Z
LOCATION:Plaça Catalunya
URL:https://www.molletvalles.cat/ca/actualitat/agenda/17898
END:VEVENT
END:VCALENDAR
