BEGIN:VCALENDAR
VERSION:2.0
PRODID:-//Plone.org//NONSGML plone.app.event//EN
X-WR-TIMEZONE:Europe/Madrid
BEGIN:VEVENT
SUMMARY:Lliga Comarcal de Cros
DTSTART;VALUE=DATE:20161210
DTEND;VALUE=DATE:20161211
DTSTAMP;VALUE=DATE-TIME:20260419T163959Z
UID:0c8b1b149e65418b8df203a3f0a7ea71@www.molletvalles.cat
CATEGORIES:Esports
CREATED;VALUE=DATE-TIME:20161122T105117Z
LAST-MODIFIED;VALUE=DATE-TIME:20221222T012625Z
URL:https://www.molletvalles.cat/ca/actualitat/agenda/17903
END:VEVENT
END:VCALENDAR
