BEGIN:VCALENDAR
VERSION:2.0
PRODID:-//Plone.org//NONSGML plone.app.event//EN
X-WR-TIMEZONE:Europe/Madrid
BEGIN:VEVENT
SUMMARY:Mercadet especial de Nadal
DTSTART;VALUE=DATE:20161218
DTEND;VALUE=DATE:20161219
DTSTAMP;VALUE=DATE-TIME:20260423T124855Z
UID:f42d48b8b20c4b499952dacfd3e1ff59@www.molletvalles.cat
CATEGORIES:Exposicions i fires
CREATED;VALUE=DATE-TIME:20161129T084905Z
LAST-MODIFIED;VALUE=DATE-TIME:20221222T012811Z
LOCATION:c. Barcelona
URL:https://www.molletvalles.cat/ca/actualitat/agenda/17949
END:VEVENT
END:VCALENDAR
