BEGIN:VCALENDAR
VERSION:2.0
PRODID:-//Plone.org//NONSGML plone.app.event//EN
X-WR-TIMEZONE:Europe/Madrid
BEGIN:VEVENT
SUMMARY:Club de lectura: "Faré tot el que tu vulguis" de Iolanda Batallé
DTSTART;VALUE=DATE:20170110
DTEND;VALUE=DATE:20170111
DTSTAMP;VALUE=DATE-TIME:20260423T133615Z
UID:a6f51c5a08214952ae4061a83ce968c0@www.molletvalles.cat
CATEGORIES:Juvenils
CREATED;VALUE=DATE-TIME:20161216T112947Z
LAST-MODIFIED;VALUE=DATE-TIME:20221222T013006Z
URL:https://www.molletvalles.cat/ca/actualitat/agenda/17996
END:VEVENT
END:VCALENDAR
