BEGIN:VCALENDAR
VERSION:2.0
PRODID:-//Plone.org//NONSGML plone.app.event//EN
X-WR-TIMEZONE:Europe/Madrid
BEGIN:VEVENT
SUMMARY:Club de lectura Pla 9: L'humor és una cosa molt seriosa!: "Tres h
 omes en una barca (per no parlar del gos)" de Jerome K. Jerome
DTSTART;VALUE=DATE:20170117
DTEND;VALUE=DATE:20170118
DTSTAMP;VALUE=DATE-TIME:20260419T164008Z
UID:e229b4c069a640ccbdd8bdeeaaa223d3@www.molletvalles.cat
CATEGORIES:Juvenils
CREATED;VALUE=DATE-TIME:20161216T123206Z
LAST-MODIFIED;VALUE=DATE-TIME:20221222T013011Z
URL:https://www.molletvalles.cat/ca/actualitat/agenda/17998
END:VEVENT
END:VCALENDAR
