BEGIN:VCALENDAR
VERSION:2.0
PRODID:-//Plone.org//NONSGML plone.app.event//EN
X-WR-TIMEZONE:Europe/Madrid
BEGIN:VEVENT
SUMMARY:Ball de la gent gran
DTSTART;VALUE=DATE:20170108
DTEND;VALUE=DATE:20170109
DTSTAMP;VALUE=DATE-TIME:20260423T124744Z
UID:b5fc9f11f85c4cc88381a346ca9fdb71@www.molletvalles.cat
CATEGORIES:Actes diversos
CREATED;VALUE=DATE-TIME:20161223T085754Z
LAST-MODIFIED;VALUE=DATE-TIME:20221222T013030Z
LOCATION:Mercat Vell
URL:https://www.molletvalles.cat/ca/actualitat/agenda/18006
END:VEVENT
END:VCALENDAR
