BEGIN:VCALENDAR
VERSION:2.0
PRODID:-//Plone.org//NONSGML plone.app.event//EN
X-WR-TIMEZONE:Europe/Madrid
BEGIN:VEVENT
SUMMARY:Sant Vicenç 2017: Portes obertes al Museu Abelló i a la Casa del
  Pintor
DTSTART;VALUE=DATE:20170121
DTEND;VALUE=DATE:20170122
DTSTAMP;VALUE=DATE-TIME:20260423T124711Z
UID:3dc2bf75e0f043f0a927909fea518692@www.molletvalles.cat
CATEGORIES:Exposicions i fires
CREATED;VALUE=DATE-TIME:20170102T083326Z
LAST-MODIFIED;VALUE=DATE-TIME:20221222T013038Z
URL:https://www.molletvalles.cat/ca/actualitat/agenda/18009
END:VEVENT
END:VCALENDAR
