BEGIN:VCALENDAR
VERSION:2.0
PRODID:-//Plone.org//NONSGML plone.app.event//EN
X-WR-TIMEZONE:Europe/Madrid
BEGIN:VEVENT
SUMMARY:Capta de sang
DTSTART;VALUE=DATE:20170602
DTEND;VALUE=DATE:20170603
DTSTAMP;VALUE=DATE-TIME:20260423T133754Z
UID:258e29577e704941b18bcb8707528968@www.molletvalles.cat
CATEGORIES:Actes diversos
CREATED;VALUE=DATE-TIME:20170119T153348Z
LAST-MODIFIED;VALUE=DATE-TIME:20221222T013312Z
URL:https://www.molletvalles.cat/ca/actualitat/agenda/18081
END:VEVENT
END:VCALENDAR
