BEGIN:VCALENDAR
VERSION:2.0
PRODID:-//Plone.org//NONSGML plone.app.event//EN
X-WR-TIMEZONE:Europe/Madrid
BEGIN:VEVENT
SUMMARY:Concurs sobre rodolins: Vine a la biblioteca i escriu un rodolí s
 obre el Rei Carnestoltes
DTSTART;VALUE=DATE:20170225
DTEND;VALUE=DATE:20170226
DTSTAMP;VALUE=DATE-TIME:20260419T164007Z
UID:a8eb9704ebff448d8552524868fcdbae@www.molletvalles.cat
CATEGORIES:Infantils
CREATED;VALUE=DATE-TIME:20170123T120946Z
LAST-MODIFIED;VALUE=DATE-TIME:20221222T013350Z
URL:https://www.molletvalles.cat/ca/actualitat/agenda/18098
END:VEVENT
END:VCALENDAR
