BEGIN:VCALENDAR
VERSION:2.0
PRODID:-//Plone.org//NONSGML plone.app.event//EN
X-WR-TIMEZONE:Europe/Madrid
BEGIN:VEVENT
SUMMARY:Ball al Casal d'Avis de Can Pantiquet
DTSTART;VALUE=DATE:20170211
DTEND;VALUE=DATE:20170212
DTSTAMP;VALUE=DATE-TIME:20260423T133649Z
UID:f44b925e7c77467e9077375fba251196@www.molletvalles.cat
CATEGORIES:Música\, cinema i espectacles
CREATED;VALUE=DATE-TIME:20170127T075308Z
LAST-MODIFIED;VALUE=DATE-TIME:20221222T013449Z
URL:https://www.molletvalles.cat/ca/actualitat/agenda/18131
END:VEVENT
END:VCALENDAR
