BEGIN:VCALENDAR
VERSION:2.0
PRODID:-//Plone.org//NONSGML plone.app.event//EN
X-WR-TIMEZONE:Europe/Madrid
BEGIN:VEVENT
SUMMARY:Cabaret Marinet: Natació Sinclownizada. Teatre gestual i clown
DTSTART;VALUE=DATE:20170204
DTEND;VALUE=DATE:20170205
DTSTAMP;VALUE=DATE-TIME:20260423T124457Z
UID:2348b6ce798544cfbf4109b340a5fc87@www.molletvalles.cat
CATEGORIES:Música\, cinema i espectacles
CREATED;VALUE=DATE-TIME:20170201T081921Z
LAST-MODIFIED;VALUE=DATE-TIME:20221222T013510Z
URL:https://www.molletvalles.cat/ca/actualitat/agenda/18151
END:VEVENT
END:VCALENDAR
