BEGIN:VCALENDAR
VERSION:2.0
PRODID:-//Plone.org//NONSGML plone.app.event//EN
X-WR-TIMEZONE:Europe/Madrid
BEGIN:VEVENT
SUMMARY:Dia d'Andalusia: Missa\, cercavila i hissada de bandera
DTSTART;VALUE=DATE:20170305
DTEND;VALUE=DATE:20170306
DTSTAMP;VALUE=DATE-TIME:20260423T152611Z
UID:f8c69e06dca14ff1af93ef86cff3a947@www.molletvalles.cat
CATEGORIES:Actes institucionals
CREATED;VALUE=DATE-TIME:20170213T085620Z
LAST-MODIFIED;VALUE=DATE-TIME:20221222T013758Z
LOCATION: Plaça Prat de la Riba
URL:https://www.molletvalles.cat/ca/actualitat/agenda/18225
END:VEVENT
END:VCALENDAR
