BEGIN:VCALENDAR
VERSION:2.0
PRODID:-//Plone.org//NONSGML plone.app.event//EN
X-WR-TIMEZONE:Europe/Madrid
BEGIN:VEVENT
SUMMARY:V Fira del llibre de segona mà
DTSTART;VALUE=DATE:20170513
DTEND;VALUE=DATE:20170514
DTSTAMP;VALUE=DATE-TIME:20260423T124609Z
UID:b77fe3a8f82b43b6b597a4986c180704@www.molletvalles.cat
CATEGORIES:Exposicions i fires
CREATED;VALUE=DATE-TIME:20170310T113731Z
LAST-MODIFIED;VALUE=DATE-TIME:20221222T014155Z
LOCATION:Rambla Balmes
URL:https://www.molletvalles.cat/ca/actualitat/agenda/18312
END:VEVENT
END:VCALENDAR
