BEGIN:VCALENDAR
VERSION:2.0
PRODID:-//Plone.org//NONSGML plone.app.event//EN
X-WR-TIMEZONE:Europe/Madrid
BEGIN:VEVENT
SUMMARY:Tarda de jocs de taula
DTSTART;VALUE=DATE:20170427
DTEND;VALUE=DATE:20170428
DTSTAMP;VALUE=DATE-TIME:20260423T124712Z
UID:e122bb974499449eb1f9e422b1bdbeb3@www.molletvalles.cat
CATEGORIES:Juvenils
CREATED;VALUE=DATE-TIME:20170322T083549Z
LAST-MODIFIED;VALUE=DATE-TIME:20221222T014333Z
URL:https://www.molletvalles.cat/ca/actualitat/agenda/18363
END:VEVENT
END:VCALENDAR
