BEGIN:VCALENDAR
VERSION:2.0
PRODID:-//Plone.org//NONSGML plone.app.event//EN
X-WR-TIMEZONE:Europe/Madrid
BEGIN:VEVENT
SUMMARY:Actuació musical al Lledoner: "Cantos de Hidra"
DTSTART;VALUE=DATE:20170526
DTEND;VALUE=DATE:20170527
DTSTAMP;VALUE=DATE-TIME:20260419T164046Z
UID:b1b4aad8a55d434f94317411648ba2fc@www.molletvalles.cat
CATEGORIES:Música\, cinema i espectacles
CREATED;VALUE=DATE-TIME:20170323T153510Z
LAST-MODIFIED;VALUE=DATE-TIME:20221222T014352Z
URL:https://www.molletvalles.cat/ca/actualitat/agenda/18373
END:VEVENT
END:VCALENDAR
