BEGIN:VCALENDAR
VERSION:2.0
PRODID:-//Plone.org//NONSGML plone.app.event//EN
X-WR-TIMEZONE:Europe/Madrid
BEGIN:VEVENT
SUMMARY:11a Mostra Internacional de Titelles de Mollet del Vallès: "El pe
 tit gran món dels germans Lambe". Cia. Encaixats
DTSTART;VALUE=DATE:20170408
DTEND;VALUE=DATE:20170409
DTSTAMP;VALUE=DATE-TIME:20260423T121713Z
UID:756e3804cb5d48d7b1607b6111ecad7c@www.molletvalles.cat
CATEGORIES:Música\, cinema i espectacles
CREATED;VALUE=DATE-TIME:20170329T085729Z
LAST-MODIFIED;VALUE=DATE-TIME:20221222T014601Z
LOCATION:Pl. Europa
URL:https://www.molletvalles.cat/ca/actualitat/agenda/18408
END:VEVENT
END:VCALENDAR
