BEGIN:VCALENDAR
VERSION:2.0
PRODID:-//Plone.org//NONSGML plone.app.event//EN
X-WR-TIMEZONE:Europe/Madrid
BEGIN:VEVENT
SUMMARY:11a Mostra Internacional de Titelles de Mollet del Vallès: Cloend
 a de la Mostra
DTSTART;VALUE=DATE:20170409
DTEND;VALUE=DATE:20170410
DTSTAMP;VALUE=DATE-TIME:20260419T163925Z
UID:c6df54407a02418cad676203c35ac1c1@www.molletvalles.cat
CATEGORIES:Música\, cinema i espectacles
CREATED;VALUE=DATE-TIME:20170329T094307Z
LAST-MODIFIED;VALUE=DATE-TIME:20221222T014622Z
LOCATION:Pl. Prat de la Riba
URL:https://www.molletvalles.cat/ca/actualitat/agenda/18413
END:VEVENT
END:VCALENDAR
