BEGIN:VCALENDAR
VERSION:2.0
PRODID:-//Plone.org//NONSGML plone.app.event//EN
X-WR-TIMEZONE:Europe/Madrid
BEGIN:VEVENT
SUMMARY:Sortida Cultural: "La torre Bellesguard"
DTSTART;VALUE=DATE:20170527
DTEND;VALUE=DATE:20170528
DTSTAMP;VALUE=DATE-TIME:20260423T133615Z
UID:21974931f86542f184faaf468b6c0d9e@www.molletvalles.cat
CATEGORIES:Sortides i excursions
CREATED;VALUE=DATE-TIME:20170403T110224Z
LAST-MODIFIED;VALUE=DATE-TIME:20221222T014759Z
URL:https://www.molletvalles.cat/ca/actualitat/agenda/18444
END:VEVENT
END:VCALENDAR
