BEGIN:VCALENDAR
VERSION:2.0
PRODID:-//Plone.org//NONSGML plone.app.event//EN
X-WR-TIMEZONE:Europe/Madrid
BEGIN:VEVENT
SUMMARY:Exposició: "Collage per l'amor de la dona somiada" de Carlos Vice
 nte
DTSTART;VALUE=DATE:20170407
DTEND;VALUE=DATE:20170408
DTSTAMP;VALUE=DATE-TIME:20260419T163923Z
UID:7d0322582b3c4fca8541de5d23283d43@www.molletvalles.cat
CATEGORIES:Exposicions i fires
CREATED;VALUE=DATE-TIME:20170405T130014Z
LAST-MODIFIED;VALUE=DATE-TIME:20221222T014806Z
URL:https://www.molletvalles.cat/ca/actualitat/agenda/18450
END:VEVENT
END:VCALENDAR
