BEGIN:VCALENDAR
VERSION:2.0
PRODID:-//Plone.org//NONSGML plone.app.event//EN
X-WR-TIMEZONE:Europe/Madrid
BEGIN:VEVENT
SUMMARY:I Míting d'atletisme Ciutat de Mollet
DTSTART;VALUE=DATE:20170506
DTEND;VALUE=DATE:20170507
DTSTAMP;VALUE=DATE-TIME:20260423T124751Z
UID:f3f3ea6656e6422c86b6c761da774a9d@www.molletvalles.cat
CATEGORIES:Esports
CREATED;VALUE=DATE-TIME:20170419T075832Z
LAST-MODIFIED;VALUE=DATE-TIME:20221222T014842Z
URL:https://www.molletvalles.cat/ca/actualitat/agenda/18465
END:VEVENT
END:VCALENDAR
