BEGIN:VCALENDAR
VERSION:2.0
PRODID:-//Plone.org//NONSGML plone.app.event//EN
X-WR-TIMEZONE:Europe/Madrid
BEGIN:VEVENT
SUMMARY:Conferència: "Compromís amb l'exili"\, a càrrec de Joan Daví
DTSTART;VALUE=DATE:20170426
DTEND;VALUE=DATE:20170427
DTSTAMP;VALUE=DATE-TIME:20260423T133649Z
UID:b9c54fbdfc084ef9875ca70aa34d9230@www.molletvalles.cat
CATEGORIES:Actes institucionals
CREATED;VALUE=DATE-TIME:20170419T110226Z
LAST-MODIFIED;VALUE=DATE-TIME:20221222T014848Z
URL:https://www.molletvalles.cat/ca/actualitat/agenda/18467
END:VEVENT
END:VCALENDAR
