BEGIN:VCALENDAR
VERSION:2.0
PRODID:-//Plone.org//NONSGML plone.app.event//EN
X-WR-TIMEZONE:Europe/Madrid
BEGIN:VEVENT
SUMMARY:Club de lectura jove: El Club de la Xinxeta Daurada
DTSTART;VALUE=DATE:20170520
DTEND;VALUE=DATE:20170521
DTSTAMP;VALUE=DATE-TIME:20260423T124820Z
UID:5cf4698adc7d4edaa641f7b5c22c1ad2@www.molletvalles.cat
CATEGORIES:Juvenils
CREATED;VALUE=DATE-TIME:20170427T120541Z
LAST-MODIFIED;VALUE=DATE-TIME:20221222T015028Z
URL:https://www.molletvalles.cat/ca/actualitat/agenda/18501
END:VEVENT
END:VCALENDAR
