BEGIN:VCALENDAR
VERSION:2.0
PRODID:-//Plone.org//NONSGML plone.app.event//EN
X-WR-TIMEZONE:Europe/Madrid
BEGIN:VEVENT
SUMMARY:La Nit dels Museus. Visita guiada a l'exposició "L'art modern a l
 a Col·lecció Abelló\, s. XIX i XX"
DTSTART;VALUE=DATE:20170520
DTEND;VALUE=DATE:20170521
DTSTAMP;VALUE=DATE-TIME:20260423T124712Z
UID:afac7092c13b4d60962fa7602f7705b9@www.molletvalles.cat
CATEGORIES:Exposicions i fires
CREATED;VALUE=DATE-TIME:20170503T120427Z
LAST-MODIFIED;VALUE=DATE-TIME:20221222T015212Z
URL:https://www.molletvalles.cat/ca/actualitat/agenda/18532
END:VEVENT
END:VCALENDAR
