BEGIN:VCALENDAR
VERSION:2.0
PRODID:-//Plone.org//NONSGML plone.app.event//EN
X-WR-TIMEZONE:Europe/Madrid
BEGIN:VEVENT
SUMMARY:La Nit dels Museus. Concert de Robindro Nikolic Trio a la terrassa
  del Museu
DTSTART;VALUE=DATE:20170520
DTEND;VALUE=DATE:20170521
DTSTAMP;VALUE=DATE-TIME:20260423T124855Z
UID:77f481ca550e489491f79bb73a24c25d@www.molletvalles.cat
CATEGORIES:Música\, cinema i espectacles
CREATED;VALUE=DATE-TIME:20170503T120844Z
LAST-MODIFIED;VALUE=DATE-TIME:20221222T015217Z
URL:https://www.molletvalles.cat/ca/actualitat/agenda/18533
END:VEVENT
END:VCALENDAR
