BEGIN:VCALENDAR
VERSION:2.0
PRODID:-//Plone.org//NONSGML plone.app.event//EN
X-WR-TIMEZONE:Europe/Madrid
BEGIN:VEVENT
SUMMARY:Ball del Casal d'Avis de Can Pantiquet
DTSTART;VALUE=DATE:20171216
DTEND;VALUE=DATE:20171217
DTSTAMP;VALUE=DATE-TIME:20260421T172916Z
UID:5902fe57736e4323b4dc8ed217a2223c@www.molletvalles.cat
CATEGORIES:Música\, cinema i espectacles
CREATED;VALUE=DATE-TIME:20170505T113920Z
LAST-MODIFIED;VALUE=DATE-TIME:20221222T015241Z
URL:https://www.molletvalles.cat/ca/actualitat/agenda/18552
END:VEVENT
END:VCALENDAR
