BEGIN:VCALENDAR
VERSION:2.0
PRODID:-//Plone.org//NONSGML plone.app.event//EN
X-WR-TIMEZONE:Europe/Madrid
BEGIN:VEVENT
SUMMARY:Espectacle de teatre solidari
DTSTART;VALUE=DATE:20170527
DTEND;VALUE=DATE:20170528
DTSTAMP;VALUE=DATE-TIME:20260419T164041Z
UID:c03c872dc2f644cba72646f6054acbb8@www.molletvalles.cat
CATEGORIES:Música\, cinema i espectacles
CREATED;VALUE=DATE-TIME:20170526T121930Z
LAST-MODIFIED;VALUE=DATE-TIME:20221222T015458Z
URL:https://www.molletvalles.cat/ca/actualitat/agenda/18594
END:VEVENT
END:VCALENDAR
