BEGIN:VCALENDAR
VERSION:2.0
PRODID:-//Plone.org//NONSGML plone.app.event//EN
X-WR-TIMEZONE:Europe/Madrid
BEGIN:VEVENT
SUMMARY:Sant Joan 2017: Encesa de la foguera de Sant Joan\, a càrrec dels
  Balls de Diables i les entitats
DTSTART;VALUE=DATE:20170623
DTEND;VALUE=DATE:20170624
DTSTAMP;VALUE=DATE-TIME:20260421T102209Z
UID:777139ac584b43c79007a13e59cc2947@www.molletvalles.cat
CATEGORIES:Festes populars
CREATED;VALUE=DATE-TIME:20170613T103625Z
LAST-MODIFIED;VALUE=DATE-TIME:20221222T015733Z
LOCATION:Parc de Ca l'Estrada
URL:https://www.molletvalles.cat/ca/actualitat/agenda/18655
END:VEVENT
END:VCALENDAR
