BEGIN:VCALENDAR
VERSION:2.0
PRODID:-//Plone.org//NONSGML plone.app.event//EN
X-WR-TIMEZONE:Europe/Madrid
BEGIN:VEVENT
SUMMARY:Dinar de germanor de l'Espai Sant Jordi: Ball amb música en direc
 te
DTSTART;VALUE=DATE:20170715
DTEND;VALUE=DATE:20170716
DTSTAMP;VALUE=DATE-TIME:20260419T163912Z
UID:cb00524da38644c9bca981927aa20c92@www.molletvalles.cat
CATEGORIES:Actes diversos
CREATED;VALUE=DATE-TIME:20170613T113034Z
LAST-MODIFIED;VALUE=DATE-TIME:20221222T015745Z
URL:https://www.molletvalles.cat/ca/actualitat/agenda/18659
END:VEVENT
END:VCALENDAR
