BEGIN:VCALENDAR
VERSION:2.0
PRODID:-//Plone.org//NONSGML plone.app.event//EN
X-WR-TIMEZONE:Europe/Madrid
BEGIN:VEVENT
SUMMARY:Inauguració d'El Racó de l'Artista: "Binomio. Crear o destruir"\
 , de Dase 
DTSTART;VALUE=DATE:20170622
DTEND;VALUE=DATE:20170623
DTSTAMP;VALUE=DATE-TIME:20260423T135054Z
UID:f1f4c574cf054221bdc9466ec5009937@www.molletvalles.cat
CATEGORIES:Exposicions i fires
CREATED;VALUE=DATE-TIME:20170614T063720Z
LAST-MODIFIED;VALUE=DATE-TIME:20221222T015747Z
URL:https://www.molletvalles.cat/ca/actualitat/agenda/18660
END:VEVENT
END:VCALENDAR
