BEGIN:VCALENDAR
VERSION:2.0
PRODID:-//Plone.org//NONSGML plone.app.event//EN
X-WR-TIMEZONE:Europe/Madrid
BEGIN:VEVENT
SUMMARY:Exposició motos imperiales
DTSTART;VALUE=DATE:20170714
DTEND;VALUE=DATE:20170715
DTSTAMP;VALUE=DATE-TIME:20260421T102053Z
UID:56cc038a23f340a7b6f4b5cfb775ba08@www.molletvalles.cat
CATEGORIES:Exposicions i fires
CREATED;VALUE=DATE-TIME:20170630T075204Z
LAST-MODIFIED;VALUE=DATE-TIME:20221222T020042Z
LOCATION:C. Alsina
URL:https://www.molletvalles.cat/ca/actualitat/agenda/18708
END:VEVENT
END:VCALENDAR
