BEGIN:VCALENDAR
VERSION:2.0
PRODID:-//Plone.org//NONSGML plone.app.event//EN
X-WR-TIMEZONE:Europe/Madrid
BEGIN:VEVENT
SUMMARY:Festa Major 2017: Concurs de truites i vermut popular
DTSTART;VALUE=DATE:20170822
DTEND;VALUE=DATE:20170823
DTSTAMP;VALUE=DATE-TIME:20260423T152610Z
UID:42c6c7f57a7a471fa9f3570a3ff5171a@www.molletvalles.cat
CATEGORIES:Festes populars
CREATED;VALUE=DATE-TIME:20170720T070606Z
LAST-MODIFIED;VALUE=DATE-TIME:20221222T020518Z
LOCATION:Plaça Pau Casals
URL:https://www.molletvalles.cat/ca/actualitat/agenda/18810
END:VEVENT
END:VCALENDAR
