BEGIN:VCALENDAR
VERSION:2.0
PRODID:-//Plone.org//NONSGML plone.app.event//EN
X-WR-TIMEZONE:Europe/Madrid
BEGIN:VEVENT
SUMMARY:L'art és un joc al Museu Abelló: "L'art\, una petita experiènci
 a" (taller per nens fins a 3 anys)
DTSTART;VALUE=DATE:20170924
DTEND;VALUE=DATE:20170925
DTSTAMP;VALUE=DATE-TIME:20260419T164047Z
UID:e9562316f69b45ac9d26e50a47bb67c7@www.molletvalles.cat
CATEGORIES:Infantils
CREATED;VALUE=DATE-TIME:20170912T104612Z
LAST-MODIFIED;VALUE=DATE-TIME:20221222T020806Z
URL:https://www.molletvalles.cat/ca/actualitat/agenda/18864
END:VEVENT
END:VCALENDAR
