BEGIN:VCALENDAR
VERSION:2.0
PRODID:-//Plone.org//NONSGML plone.app.event//EN
X-WR-TIMEZONE:Europe/Madrid
BEGIN:VEVENT
SUMMARY:Xerrada: "Família\, joves i drogues. Conèixer\, comprendre i act
 uar"
DTSTART;VALUE=DATE:20171023
DTEND;VALUE=DATE:20171024
DTSTAMP;VALUE=DATE-TIME:20260423T124652Z
UID:b9e718aa8fca444cb5503c538e8609ca@www.molletvalles.cat
CATEGORIES:Conferències
CREATED;VALUE=DATE-TIME:20170920T120158Z
LAST-MODIFIED;VALUE=DATE-TIME:20221222T021019Z
URL:https://www.molletvalles.cat/ca/actualitat/agenda/18902
END:VEVENT
END:VCALENDAR
