BEGIN:VCALENDAR
VERSION:2.0
PRODID:-//Plone.org//NONSGML plone.app.event//EN
X-WR-TIMEZONE:Europe/Madrid
BEGIN:VEVENT
SUMMARY:Xerrada: "Història del Via Crucis\, els cos portants i les romeri
 es a Mollet"
DTSTART;VALUE=DATE:20171127
DTEND;VALUE=DATE:20171128
DTSTAMP;VALUE=DATE-TIME:20260423T124609Z
UID:f04b8103aeb34f00b243fd918defb6a1@www.molletvalles.cat
CATEGORIES:Conferències
CREATED;VALUE=DATE-TIME:20170925T103025Z
LAST-MODIFIED;VALUE=DATE-TIME:20221222T021201Z
URL:https://www.molletvalles.cat/ca/actualitat/agenda/18932
END:VEVENT
END:VCALENDAR
