BEGIN:VCALENDAR
VERSION:2.0
PRODID:-//Plone.org//NONSGML plone.app.event//EN
X-WR-TIMEZONE:Europe/Madrid
BEGIN:VEVENT
SUMMARY:Xerrada: "Boscos saludables"
DTSTART;VALUE=DATE:20171204
DTEND;VALUE=DATE:20171205
DTSTAMP;VALUE=DATE-TIME:20260423T124745Z
UID:935ec584243142bcbbb9b04b21c08457@www.molletvalles.cat
CATEGORIES:Conferències
CREATED;VALUE=DATE-TIME:20170925T103302Z
LAST-MODIFIED;VALUE=DATE-TIME:20221222T021202Z
URL:https://www.molletvalles.cat/ca/actualitat/agenda/18933
END:VEVENT
END:VCALENDAR
