BEGIN:VCALENDAR
VERSION:2.0
PRODID:-//Plone.org//NONSGML plone.app.event//EN
X-WR-TIMEZONE:Europe/Madrid
BEGIN:VEVENT
SUMMARY:Sopar solidari de Mollet amb Cuba
DTSTART;VALUE=DATE:20170930
DTEND;VALUE=DATE:20171001
DTSTAMP;VALUE=DATE-TIME:20260423T133605Z
UID:eb2aa2b54c784b05bfceca830502a118@www.molletvalles.cat
CATEGORIES:Actes diversos
CREATED;VALUE=DATE-TIME:20170925T114056Z
LAST-MODIFIED;VALUE=DATE-TIME:20221222T021220Z
URL:https://www.molletvalles.cat/ca/actualitat/agenda/18940
END:VEVENT
END:VCALENDAR
