BEGIN:VCALENDAR
VERSION:2.0
PRODID:-//Plone.org//NONSGML plone.app.event//EN
X-WR-TIMEZONE:Europe/Madrid
BEGIN:VEVENT
SUMMARY:The Sun'Billys Garage party
DTSTART;VALUE=DATE:20171014
DTEND;VALUE=DATE:20171015
DTSTAMP;VALUE=DATE-TIME:20260423T124652Z
UID:67e862e2ce9e4638b19c7d1f71d9a770@www.molletvalles.cat
CATEGORIES:Música\, cinema i espectacles
CREATED;VALUE=DATE-TIME:20170926T072142Z
LAST-MODIFIED;VALUE=DATE-TIME:20221222T021242Z
LOCATION: Parc de Can Mulà
URL:https://www.molletvalles.cat/ca/actualitat/agenda/18948
END:VEVENT
END:VCALENDAR
